BEGIN:VCALENDAR
VERSION:2.0
PRODID:-//Austin Gun Club - ECPv6.15.18//NONSGML v1.0//EN
CALSCALE:GREGORIAN
METHOD:PUBLISH
X-ORIGINAL-URL:https://austingunclub.com
X-WR-CALDESC:Events for Austin Gun Club
REFRESH-INTERVAL;VALUE=DURATION:PT1H
X-Robots-Tag:noindex
X-PUBLISHED-TTL:PT1H
BEGIN:VTIMEZONE
TZID:America/Chicago
BEGIN:DAYLIGHT
TZOFFSETFROM:-0600
TZOFFSETTO:-0500
TZNAME:CDT
DTSTART:20230312T080000
END:DAYLIGHT
BEGIN:STANDARD
TZOFFSETFROM:-0500
TZOFFSETTO:-0600
TZNAME:CST
DTSTART:20231105T070000
END:STANDARD
BEGIN:DAYLIGHT
TZOFFSETFROM:-0600
TZOFFSETTO:-0500
TZNAME:CDT
DTSTART:20240310T080000
END:DAYLIGHT
BEGIN:STANDARD
TZOFFSETFROM:-0500
TZOFFSETTO:-0600
TZNAME:CST
DTSTART:20241103T070000
END:STANDARD
BEGIN:DAYLIGHT
TZOFFSETFROM:-0600
TZOFFSETTO:-0500
TZNAME:CDT
DTSTART:20250309T080000
END:DAYLIGHT
BEGIN:STANDARD
TZOFFSETFROM:-0500
TZOFFSETTO:-0600
TZNAME:CST
DTSTART:20251102T070000
END:STANDARD
END:VTIMEZONE
BEGIN:VEVENT
DTSTART;TZID=America/Chicago:20241207T083000
DTEND;TZID=America/Chicago:20241207T160000
DTSTAMP:20260420T053712
CREATED:20240101T003428Z
LAST-MODIFIED:20241001T220417Z
UID:10000017-1733560200-1733587200@austingunclub.com
SUMMARY:NSCA 'Tis the Season
DESCRIPTION:‘Tis the Season\nAn NSCA Sporting Clays Competition\nCelebrate the season with us with a fun set of clays as we fellowship and enjoy the reason for the season!
URL:https://austingunclub.com/event/nsca-tis-the-season-2/
LOCATION:Austin Gun Club\, 2901 County Road 206\, Lampasas\, TX\, 76550\, United States
CATEGORIES:NSCA Registered Shoot
ATTACH;FMTTYPE=image/png:https://austingunclub.com/wp-content/uploads/2023/12/12.7.24-Tis-the-Season-FB-Header-1.png
END:VEVENT
END:VCALENDAR